BEGIN:VCALENDAR
VERSION:2.0
PRODID:-//eventon.com NONSGML v1.0//EN
CALSCALE:GREGORIAN
METHOD:PUBLISH
BEGIN:VEVENT
UID:69e7346348cfe
DTSTAMP:20260421T082507Z
DTSTART:20250701T230000Z
DTEND:20250702T020000Z
LOCATION:Kokernot Field E. Hendryx Drive\,  Alpine\,   79830
SUMMARY:06 Cowboys Baseball
DESCRIPTION:Pecos Bills are in Alpine again July 1st!\nhttps://visitalpinet
 x.com/event/06-cowboys-baseball-2-2-2-3/
URL:https://visitalpinetx.com/event/06-cowboys-baseball-2-2-2-3/
END:VEVENT
END:VCALENDAR