BEGIN:VCALENDAR
VERSION:2.0
PRODID:-//eventon.com NONSGML v1.0//EN
CALSCALE:GREGORIAN
METHOD:PUBLISH
BEGIN:VEVENT
UID:69e8dac2abce8
DTSTAMP:20260422T142714Z
DTSTART:20250809
DTEND:20250810
LOCATION:Front Street Books 121 E Holland Ave\,  Alpine\,  TX 79830
SUMMARY:Store Anniversary Celebration AND Bookstore Romance Day
DESCRIPTION:August 9th is not only the return of Bookstore Romance Day at F
 ront Street Books. It&#8217;s our 30th Anniversary celebration! And we&#821
 7;re observing it in a couple of different ways: The &#8220;I Read a&#8217;
 latte&#8221; special drink will be back at Cedar Coffee &amp; Supply! It&#8
 217;s a rosemary\,  piloncillo\,  and orange[..]\nhttps://visitalpinetx.com
 /event/store-anniversary-celebration-and-bookstore-romance-day/
URL:https://visitalpinetx.com/event/store-anniversary-celebration-and-bookstore-romance-day/
END:VEVENT
END:VCALENDAR