BEGIN:VCALENDAR
VERSION:2.0
PRODID:-//eventon.com NONSGML v1.0//EN
CALSCALE:GREGORIAN
METHOD:PUBLISH
BEGIN:VEVENT
UID:69e89417d6405
DTSTAMP:20260422T092543Z
DTSTART:20260403T000000Z
DTEND:20260403T020000Z
LOCATION:The Ritchey 102 East Murphy Ave\,  Alpine\,  TX 79830
SUMMARY:Gary Gorence
DESCRIPTION:Gary Gorence live at The Ritchey on Tuesday night!\nhttps://vis
 italpinetx.com/event/gary-gorence/
URL:https://visitalpinetx.com/event/gary-gorence/
END:VEVENT
END:VCALENDAR