BEGIN:VCALENDAR
VERSION:2.0
PRODID:-//eventon.com NONSGML v1.0//EN
CALSCALE:GREGORIAN
METHOD:PUBLISH
BEGIN:VEVENT
UID:69e8a96faaafc
DTSTAMP:20260422T105647Z
DTSTART:20260313T000000Z
DTEND:20260312T140000Z
LOCATION:The Ritchey 102 East Murphy Ave\,  Alpine\,  TX 79830
SUMMARY:Devin Hopwood
DESCRIPTION:Thursday\,  March 12th come hear music from Devin Hopwood at Th
 e Ritchey!\nhttps://visitalpinetx.com/event/devin-hopwood/
URL:https://visitalpinetx.com/event/devin-hopwood/
END:VEVENT
END:VCALENDAR