BEGIN:VCALENDAR
VERSION:2.0
PRODID:-//eventon.com NONSGML v1.0//EN
CALSCALE:GREGORIAN
METHOD:PUBLISH
BEGIN:VEVENT
UID:69e9e3af5f1b4
DTSTAMP:20260423T091735Z
DTSTART:20250928T020000Z
DTEND:20250927T050000Z
LOCATION:Skelton&#039;s Runway 300 Cockrell Street\,  Alpine\,  TX 79830
SUMMARY:Jake n Rey
DESCRIPTION:New music coming to Alpine for Rodeo Weekend and the first Sul 
 Ross home football weekend! Saturday\,  September 27th at Skelton&#8217;s!!
 \nhttps://visitalpinetx.com/event/jake-n-rey/
URL:https://visitalpinetx.com/event/jake-n-rey/
END:VEVENT
END:VCALENDAR