BEGIN:VCALENDAR
VERSION:2.0
PRODID:-//eventon.com NONSGML v1.0//EN
CALSCALE:GREGORIAN
METHOD:PUBLISH
BEGIN:VEVENT
UID:69e7516a8abc8
DTSTAMP:20260421T102858Z
DTSTART:20251016T003000Z
DTEND:20251016T013000Z
LOCATION:
SUMMARY:Piano & Classic Guitar Concert
DESCRIPTION:Guitar in the Big Bend and Sul Ross Music present Jae-Eun Baek 
 (piano) and Stephen Krishnan (classical guitar).  This is a FREE concert 
 October 15th\,  7:30 at Studio Theater on SRSU Campus.\nhttps://visitalpine
 tx.com/event/piano-classic-guitar-concert/
URL:https://visitalpinetx.com/event/piano-classic-guitar-concert/
END:VEVENT
END:VCALENDAR