BEGIN:VCALENDAR
VERSION:2.0
PRODID:-//eventon.com NONSGML v1.0//EN
CALSCALE:GREGORIAN
METHOD:PUBLISH
BEGIN:VEVENT
UID:69e5f2285ea46
DTSTAMP:20260420T093016Z
DTSTART:20251010T000000Z
DTEND:20251010T020000Z
LOCATION:The Ritchey 102 East Murphy Ave\,  Alpine\,  TX 79830
SUMMARY:Devin Hopwood & Julian Neel
DESCRIPTION:Thursday evening Devin Hopwood is back at The Ritchey and he&#8
 217;s bringing a friend\,  Julian Neel. The great music starts at 7pm!\nhtt
 ps://visitalpinetx.com/event/devin-hopwood-julian-neel/
URL:https://visitalpinetx.com/event/devin-hopwood-julian-neel/
END:VEVENT
END:VCALENDAR