BEGIN:VCALENDAR
VERSION:2.0
PRODID:-//eventon.com NONSGML v1.0//EN
CALSCALE:GREGORIAN
METHOD:PUBLISH
BEGIN:VEVENT
UID:69e7661c4a844
DTSTAMP:20260421T115716Z
DTSTART:20251011T000000Z
DTEND:20251011T020000Z
LOCATION:The Ritchey 102 East Murphy Ave\,  Alpine\,  TX 79830
SUMMARY:Trash Pandas
DESCRIPTION:The Ritchey welcomes Trash Pandas! The band! Not the cute littl
 e racoons. Friday\,  October 10th\,  7pm!\nhttps://visitalpinetx.com/event/
 trash-pandas/
URL:https://visitalpinetx.com/event/trash-pandas/
END:VEVENT
END:VCALENDAR