BEGIN:VCALENDAR
VERSION:2.0
PRODID:-//eventon.com NONSGML v1.0//EN
CALSCALE:GREGORIAN
METHOD:PUBLISH
BEGIN:VEVENT
UID:69e9e2c411710
DTSTAMP:20260423T091340Z
DTSTART:20251012T000000Z
DTEND:20251012T020000Z
LOCATION:The Ritchey 102 East Murphy Ave\,  Alpine\,  TX 79830
SUMMARY:Matthew Pink
DESCRIPTION:Matthew Pink is live at The Ritchey\,  Saturday\,  October 11th
 !\nhttps://visitalpinetx.com/event/matthew-pink/
URL:https://visitalpinetx.com/event/matthew-pink/
END:VEVENT
END:VCALENDAR