BEGIN:VCALENDAR
VERSION:2.0
PRODID:-//eventon.com NONSGML v1.0//EN
CALSCALE:GREGORIAN
METHOD:PUBLISH
BEGIN:VEVENT
UID:69e5eec5b3ea0
DTSTAMP:20260420T091549Z
DTSTART:20251021T230000Z
DTEND:20251022T003000Z
LOCATION:Sul Ross State University 79830 US-90\,  Alpine\,  TX 79830\,  EE. UU.\,  Alpine\,  TX 79830
SUMMARY:Zuzu Verk Memorial Walk & Vigil
DESCRIPTION:The Family Crisis Center of the Big Bend in honoring victims an
 d survivors of domestic violence Tuesday\,  Oct. 21st\,  at 6pm. Gather at 
 Sul Ross and walk to the Brewster County Courthouse.\nhttps://visitalpinetx
 .com/event/zuzu-verk-memorial-walk-vigil/
URL:https://visitalpinetx.com/event/zuzu-verk-memorial-walk-vigil/
END:VEVENT
END:VCALENDAR