BEGIN:VCALENDAR
VERSION:2.0
PRODID:-//eventon.com NONSGML v1.0//EN
CALSCALE:GREGORIAN
METHOD:PUBLISH
BEGIN:VEVENT
UID:69e8976cc4589
DTSTAMP:20260422T093956Z
DTSTART:20251031T000000Z
DTEND:20251031T020000Z
LOCATION:The Ritchey 102 East Murphy Ave\,  Alpine\,  TX 79830
SUMMARY:Johnny Lloyd
DESCRIPTION:Johnny Lloyd is on the road and making a stop at The Ritchey! T
 hursday\,  October 30th!\nhttps://visitalpinetx.com/event/johnny-lloyd/
URL:https://visitalpinetx.com/event/johnny-lloyd/
END:VEVENT
END:VCALENDAR