BEGIN:VCALENDAR
VERSION:2.0
PRODID:-//eventon.com NONSGML v1.0//EN
CALSCALE:GREGORIAN
METHOD:PUBLISH
BEGIN:VEVENT
UID:69e7380dad4cb
DTSTAMP:20260421T084045Z
DTSTART:20251101T000000Z
DTEND:20251101T020000Z
LOCATION:The Ritchey 102 East Murphy Ave\,  Alpine\,  TX 79830
SUMMARY:Billy King and the Bad\,  Bad\,  Bad
DESCRIPTION:Making a stop in Alpine at The Ritchey is Billy King and the ba
 d\,  bad\,  bad!\nhttps://visitalpinetx.com/event/billy-king-and-the-bad-ba
 d-bad/
URL:https://visitalpinetx.com/event/billy-king-and-the-bad-bad-bad/
END:VEVENT
END:VCALENDAR