BEGIN:VCALENDAR
VERSION:2.0
PRODID:-//eventon.com NONSGML v1.0//EN
CALSCALE:GREGORIAN
METHOD:PUBLISH
BEGIN:VEVENT
UID:69ecbfacd433e
DTSTAMP:20260425T132044Z
DTSTART:20260227T230000Z
DTEND:20260228T010000Z
LOCATION:Our Lady of Peace Catholic Church 406 S 6th Street\,  Alpine\,  TX 79830
SUMMARY:Fish Fry
DESCRIPTION:It&#8217;s that time of the year again\,  folks. In observation
  of Lent Season\,  The Knights of Columbus &#8211; Council 5096 is proud to
  host our annual fish fry fundraising event! When: Join us on Friday\,  Feb
 ruary 27thTime: 5–7 PM. Dine-in or take-outWhere: Our Lady of Peace\,  Pa
 rish Hall\,  406 South[..]\nhttps://visitalpinetx.com/event/fish-fry/
URL:https://visitalpinetx.com/event/fish-fry/
END:VEVENT
END:VCALENDAR