BEGIN:VCALENDAR
VERSION:2.0
PRODID:-//eventon.com NONSGML v1.0//EN
CALSCALE:GREGORIAN
METHOD:PUBLISH
BEGIN:VEVENT
UID:69e8a9477c7ae
DTSTAMP:20260422T105607Z
DTSTART:20260213T213000Z
DTEND:20260213T233000Z
LOCATION:Front Street Books 121 E Holland Ave\,  Alpine\,  TX 79830
SUMMARY:William Benton Book Signing
DESCRIPTION:Join Front Street Books for a reading and signing with WILLIAM 
 BENTON!!! WILLIAM BENTON received his early training in music and worked as
  a jazz piano player before becoming a writer. His poetry and prose have ap
 peared in The New Yorker\,  The Paris Review\,  and other magazines. He is 
 the[..]\nhttps://visitalpinetx.com/event/william-benton-book-signing/
URL:https://visitalpinetx.com/event/william-benton-book-signing/
END:VEVENT
END:VCALENDAR