BEGIN:VCALENDAR
VERSION:2.0
PRODID:-//eventon.com NONSGML v1.0//EN
CALSCALE:GREGORIAN
METHOD:PUBLISH
BEGIN:VEVENT
UID:69e5f36719347
DTSTAMP:20260420T093535Z
DTSTART:20260215T010000Z
DTEND:20260215T020000Z
LOCATION:The Ritchey 102 East Murphy Ave\,  Alpine\,  TX 79830
SUMMARY:Leavin' Page Town
DESCRIPTION:Enjoy music from Leavin&#8217; Page Town!Live at The Ritchey\, 
  Saturday the 14th\,  7-9pm\nhttps://visitalpinetx.com/event/leavin-page-to
 wn/
URL:https://visitalpinetx.com/event/leavin-page-town/
END:VEVENT
END:VCALENDAR