BEGIN:VCALENDAR
VERSION:2.0
PRODID:-//eventon.com NONSGML v1.0//EN
CALSCALE:GREGORIAN
METHOD:PUBLISH
BEGIN:VEVENT
UID:69e893f2cafb6
DTSTAMP:20260422T092506Z
DTSTART:20260214T003000Z
DTEND:20260214T033000Z
LOCATION:Alcove Social 211 E Holland Ave\,  Alpine\,  TX 79830
SUMMARY:Leavin' Page Town at Alcove Social
DESCRIPTION:Country and Blues duo\,  Leavin&#8217; Page Town is at Alcove S
 ocial. Friday\,  February 13th\,  6;30-9:30pm\nhttps://visitalpinetx.com/ev
 ent/leavin-page-town-at-alcove-social/
URL:https://visitalpinetx.com/event/leavin-page-town-at-alcove-social/
END:VEVENT
END:VCALENDAR