BEGIN:VCALENDAR
VERSION:2.0
PRODID:-//eventon.com NONSGML v1.0//EN
CALSCALE:GREGORIAN
METHOD:PUBLISH
BEGIN:VEVENT
UID:69e8c32664636
DTSTAMP:20260422T124630Z
DTSTART:20260219T210000Z
DTEND:20260219T230000Z
LOCATION:Carpenter Real Estate - Legacy Broker Group 708 E Ave E
SUMMARY:Alpine Entrepreneur Meetup
DESCRIPTION:Join Legacy Broker Group for the first Alpine Entrepreneur Mee
 tup!Come share ideas\,  collaborate\,  and chat about ways we can all grow 
 and thrive here in Alpine! Event Details: Date: Thursday\,  February 19th T
 ime: 3:00 PM &#8211; 5:00 PM Location: Carpenter Realty &#8211; Legacy Brok
 er Group (708 E Ave East Suite 6226)[..]\nhttps://visitalpinetx.com/event/a
 lpine-entrepreneur-meetup/
URL:https://visitalpinetx.com/event/alpine-entrepreneur-meetup/
END:VEVENT
END:VCALENDAR