BEGIN:VCALENDAR
VERSION:2.0
PRODID:-//eventon.com NONSGML v1.0//EN
CALSCALE:GREGORIAN
METHOD:PUBLISH
BEGIN:VEVENT
UID:69e767b71882b
DTSTAMP:20260421T120407Z
DTSTART:20260222T010000Z
DTEND:20260222T040000Z
LOCATION:Alcove Social 211 E Holland Ave\,  Alpine\,  TX 79830
SUMMARY:Connor Palomino
DESCRIPTION:Enjoy music by Connor Palomino\,  Saturday\,  February 21st at 
 Alcove Social\nhttps://visitalpinetx.com/event/connor-palomino-2/
URL:https://visitalpinetx.com/event/connor-palomino-2/
END:VEVENT
END:VCALENDAR