BEGIN:VCALENDAR
VERSION:2.0
PRODID:-//eventon.com NONSGML v1.0//EN
CALSCALE:GREGORIAN
METHOD:PUBLISH
BEGIN:VEVENT
UID:69e8da7f85b54
DTSTAMP:20260422T142607Z
DTSTART:20260220T000000Z
DTEND:20260220T020000Z
LOCATION:Alcove Social 211 E Holland Ave\,  Alpine\,  TX 79830
SUMMARY:Nick Rollins
DESCRIPTION:Music with Nick Rollins on Thursday\,  February 19th at Alcove 
 Social!\nhttps://visitalpinetx.com/event/nick-rollins/
URL:https://visitalpinetx.com/event/nick-rollins/
END:VEVENT
END:VCALENDAR