BEGIN:VCALENDAR
VERSION:2.0
PRODID:-//eventon.com NONSGML v1.0//EN
CALSCALE:GREGORIAN
METHOD:PUBLISH
BEGIN:VEVENT
UID:69e9dfa34e9b5
DTSTAMP:20260423T090019Z
DTSTART:20260227T230000Z
DTEND:20260228T010000Z
LOCATION:Amigo @ Alpine City Place 101 W. Avenue E\,  Alpine\,  TX 79830
SUMMARY:19 Crimes Launch Party
DESCRIPTION:The Amigo Sports bar &amp; Restaurant is hosting a launch party
  for their exclusive wine partner: 19 Crimes!Friday\,  February 27th\,  5â€
 “7PMYour $5 ticket includes:Â 3-wine tasting flight (2 red/white + bonus)Â 
 Live augmented reality bottle demoÂ 100 Amigo MVP Loyalty points bonusÂ Ent
 ry into exclusive points + swag giveawaysThe menu features:â€˘ 19 Crimes Ca
 bernetâ€˘[..]\nhttps://visitalpinetx.com/event/19-crimes-launch-party/
URL:https://visitalpinetx.com/event/19-crimes-launch-party/
END:VEVENT
END:VCALENDAR