BEGIN:VCALENDAR
VERSION:2.0
PRODID:-//eventon.com NONSGML v1.0//EN
CALSCALE:GREGORIAN
METHOD:PUBLISH
BEGIN:VEVENT
UID:69e739ce0c36b
DTSTAMP:20260421T084814Z
DTSTART:20260308T010000Z
DTEND:20260308T050000Z
LOCATION:Granada Theatre 207 E. Holland Ave.\,  Alpine\,  TX 79830
SUMMARY:Siberian Surf Rock - Igor & The Red Elvises
DESCRIPTION:There’s a genre called Siberian Surf Rock. Igor Yuzov invente
 d it.And you get a chance to enjoy it! Saturday\,  March 7th at The Granada
 !Doors open at 7PM Born in Germany and raised in Ukraine\,  Igor came to Am
 erica chasing what he called “forbidden rock’n’roll from the former S
 oviet Union” —[..]\nhttps://visitalpinetx.com/event/siberian-surf-rock-
 igor-the-red-elvises/
URL:https://visitalpinetx.com/event/siberian-surf-rock-igor-the-red-elvises/
END:VEVENT
END:VCALENDAR