BEGIN:VCALENDAR
VERSION:2.0
PRODID:-//eventon.com NONSGML v1.0//EN
CALSCALE:GREGORIAN
METHOD:PUBLISH
BEGIN:VEVENT
UID:69e734c9df220
DTSTAMP:20260421T082649Z
DTSTART:20260322T190000Z
DTEND:20260322T210000Z
LOCATION:SRSU Bryan Wildenthal Memorial Library 400 N Harrison\,  Alpine\,  TX 79830
SUMMARY:Archives of the Big Bend Roadshow
DESCRIPTION:Big Bend Archives Roadshow! Sunday\,  March 22\,  2pm! Have old
  photos\,  letters\,  documents\,  or family treasures tucked away in a dra
 wer? These everyday items tell the story of the Big Bend Region — and the
 y matter more than you might think. Bring them with you to the SRSU Bryan W
 ildenthal[..]\nhttps://visitalpinetx.com/event/archives-of-the-big-bend-roa
 dshow/
URL:https://visitalpinetx.com/event/archives-of-the-big-bend-roadshow/
END:VEVENT
END:VCALENDAR