BEGIN:VCALENDAR
VERSION:2.0
PRODID:-//eventon.com NONSGML v1.0//EN
CALSCALE:GREGORIAN
METHOD:PUBLISH
BEGIN:VEVENT
UID:69e8a9815f0c1
DTSTAMP:20260422T105705Z
DTSTART:20260425T180000Z
DTEND:20260425T200000Z
LOCATION:Front Street Books 121 E Holland Ave\,  Alpine\,  TX 79830
SUMMARY:Wild Women for Good Book Signing and Panel Discussion
DESCRIPTION:Attend a panel discussion and book signing at Front Street Book
 s on April 25th from 1 &#8211; 3 PM! Meet conservationists Madge Lindsay\, 
  Cecilia Riley\,  Pamela Nelson Harte\,  and Carolyn Ohl\,  as well as auth
 or Jennifer Bristol—and get her newest book\,  Wild Women for Good\,  s
 igned at the end of the panel[..]\nhttps://visitalpinetx.com/event/wild-wom
 en-for-good-book-signing-and-panel-discussion/
URL:https://visitalpinetx.com/event/wild-women-for-good-book-signing-and-panel-discussion/
END:VEVENT
END:VCALENDAR