BEGIN:VCALENDAR
VERSION:2.0
PRODID:-//eventon.com NONSGML v1.0//EN
CALSCALE:GREGORIAN
METHOD:PUBLISH
BEGIN:VEVENT
UID:69e8f22464ba0
DTSTAMP:20260422T160700Z
DTSTART:20260410T000000Z
DTEND:20260410T020000Z
LOCATION:The Ritchey 102 East Murphy Ave\,  Alpine\,  TX 79830
SUMMARY:Kimberly Dawn Price
DESCRIPTION:The Ritchey has music from Kimberly Dawn Price on Thursday even
 ing\,  7-9PM\nhttps://visitalpinetx.com/event/kimberly-dawn-price/
URL:https://visitalpinetx.com/event/kimberly-dawn-price/
END:VEVENT
END:VCALENDAR